Workbook

Sheet Tarification_STAGES+SEJOURS
B3: Tarifs pour QF = | G3: Montant pass loisirs indiqué par la mairie de Meylan =
D4: * hors valorisation locaux et fluides par la mairie | G4: 20
B7: Pour les Meylanais, le tarif est dépendant du QF exact pour un QF entre 400 et 4000. Pensez à vous inscrire à l'espace famille de la mairie de Meylan, afin de pouvoir profiter de pass loisirs. 2 pass loisirs sont utilisables par stage. Pour les extérieurs, 2 tarifs différents selon le QF <=2000 ou >=2001 Pour tous les collégiens, la carte Tatoo est utilisable.
B8: Tarifs des stages selon QF (Quotient familial) | C8: Format intitué prestation proweb | D8: Cout complet (*) | E8: Tarif de référence | F8: Tarif MEYLANAIS | G8: Calcul montant pass loirirs * noté à titre indicatif | H8: Tarif MEYLANAIS, 1 pass loisirs déduit | I8: Tarif MEYLANAIS, 2 pass loisirs déduit | J8: Tarif EXTERIEUR
B9: AUTOMNE
B10: ='Stages - Calc'!B12 -> ARTS PLASTIQUES | D10: ='Stages - Calc'!C12 -> 90 | E10: ='Stages - Calc'!D12 -> 76 | F10: ='Stages - Calc'!G12 -> 59 | G10: =ROUND(IF($G$4<>"",$G$4,IF($B$4<300,36.5,IF($B$4<1200,40-($B$4*0.009445+0.666667),IF($B$4<2800,40-($B$4*0.009688+0.375),IF($B$4<4000,40-($B$4*0.007084+7.666667),4))))),2) -> 20 | H10: =IF($F10-40<0,"Non utilisable",$F10-G10) -> 39 | I10: =IF($F10-80<0,"Non utilisable",$F10-2*G10) -> Non utilisable | J10: ='Stages - Calc'!H12 -> 91
B11: ='Stages - Calc'!B13 -> CAPOEIRA | D11: ='Stages - Calc'!C13 -> 110 | E11: ='Stages - Calc'!D13 -> 93 | F11: ='Stages - Calc'!G13 -> 73 | G11: =ROUND(IF($G$4<>"",$G$4,IF($B$4<300,36.5,IF($B$4<1200,40-($B$4*0.009445+0.666667),IF($B$4<2800,40-($B$4*0.009688+0.375),IF($B$4<4000,40-($B$4*0.007084+7.666667),4))))),2) -> 20 | H11: =IF($F11-40<0,"Non utilisable",$F11-G11) -> 53 | I11: =IF($F11-80<0,"Non utilisable",$F11-2*G11) -> Non utilisable | J11: ='Stages - Calc'!H13 -> 112
B12: ='Stages - Calc'!B14 -> ESCALADE | D12: ='Stages - Calc'!C14 -> 240 | E12: ='Stages - Calc'!D14 -> 202 | F12: ='Stages - Calc'!G14 -> 158 | G12: =ROUND(IF($G$4<>"",$G$4,IF($B$4<300,36.5,IF($B$4<1200,40-($B$4*0.009445+0.666667),IF($B$4<2800,40-($B$4*0.009688+0.375),IF($B$4<4000,40-($B$4*0.007084+7.666667),4))))),2) -> 20 | H12: =IF($F12-40<0,"Non utilisable",$F12-G12) -> 138 | I12: =IF($F12-80<0,"Non utilisable",$F12-2*G12) -> 118 | J12: ='Stages - Calc'!H14 -> 242
B13: ='Stages - Calc'!B15 -> HIP-HOP | D13: ='Stages - Calc'!C15 -> 122 | E13: ='Stages - Calc'!D15 -> 101 | F13: ='Stages - Calc'!G15 -> 79 | G13: =ROUND(IF($G$4<>"",$G$4,IF($B$4<300,36.5,IF($B$4<1200,40-($B$4*0.009445+0.666667),IF($B$4<2800,40-($B$4*0.009688+0.375),IF($B$4<4000,40-($B$4*0.007084+7.666667),4))))),2) -> 20 | H13: =IF($F13-40<0,"Non utilisable",$F13-G13) -> 59 | I13: =IF($F13-80<0,"Non utilisable",$F13-2*G13) -> Non utilisable | J13: ='Stages - Calc'!H15 -> 121
B14: ='Stages - Calc'!B16 -> MULTI-ACTIVITÉS | D14: ='Stages - Calc'!C16 -> 231 | E14: ='Stages - Calc'!D16 -> 181 | F14: ='Stages - Calc'!G16 -> 141 | G14: =ROUND(IF($G$4<>"",$G$4,IF($B$4<300,36.5,IF($B$4<1200,40-($B$4*0.009445+0.666667),IF($B$4<2800,40-($B$4*0.009688+0.375),IF($B$4<4000,40-($B$4*0.007084+7.666667),4))))),2) -> 20 | H14: =IF($F14-40<0,"Non utilisable",$F14-G14) -> 121 | I14: =IF($F14-80<0,"Non utilisable",$F14-2*G14) -> 101 | J14: ='Stages - Calc'!H16 -> 217
B15: ='Stages - Calc'!B17 -> PONEY | D15: ='Stages - Calc'!C17 -> 174 | E15: ='Stages - Calc'!D17 -> 147 | F15: ='Stages - Calc'!G17 -> 115 | G15: =ROUND(IF($G$4<>"",$G$4,IF($B$4<300,36.5,IF($B$4<1200,40-($B$4*0.009445+0.666667),IF($B$4<2800,40-($B$4*0.009688+0.375),IF($B$4<4000,40-($B$4*0.007084+7.666667),4))))),2) -> 20 | H15: =IF($F15-40<0,"Non utilisable",$F15-G15) -> 95 | I15: =IF($F15-80<0,"Non utilisable",$F15-2*G15) -> 75 | J15: ='Stages - Calc'!H17 -> 176
B16: ='Stages - Calc'!B18 -> SCIENCE ET MALICE | D16: ='Stages - Calc'!C18 -> 85 | E16: ='Stages - Calc'!D18 -> 73 | F16: ='Stages - Calc'!G18 -> 57 | G16: =ROUND(IF($G$4<>"",$G$4,IF($B$4<300,36.5,IF($B$4<1200,40-($B$4*0.009445+0.666667),IF($B$4<2800,40-($B$4*0.009688+0.375),IF($B$4<4000,40-($B$4*0.007084+7.666667),4))))),2) -> 20 | H16: =IF($F16-40<0,"Non utilisable",$F16-G16) -> 37 | I16: =IF($F16-80<0,"Non utilisable",$F16-2*G16) -> Non utilisable | J16: ='Stages - Calc'!H18 -> 88
B17: ='Stages - Calc'!B19 -> STÉNOPÉ | D17: ='Stages - Calc'!C19 -> 146 | E17: ='Stages - Calc'!D19 -> 129 | F17: ='Stages - Calc'!G19 -> 101 | G17: =ROUND(IF($G$4<>"",$G$4,IF($B$4<300,36.5,IF($B$4<1200,40-($B$4*0.009445+0.666667),IF($B$4<2800,40-($B$4*0.009688+0.375),IF($B$4<4000,40-($B$4*0.007084+7.666667),4))))),2) -> 20 | H17: =IF($F17-40<0,"Non utilisable",$F17-G17) -> 81 | I17: =IF($F17-80<0,"Non utilisable",$F17-2*G17) -> 61 | J17: ='Stages - Calc'!H19 -> 155
B18: ='Stages - Calc'!B20 -> TIR A L'ARC | D18: ='Stages - Calc'!C20 -> 121 | E18: ='Stages - Calc'!D20 -> 105 | F18: ='Stages - Calc'!G20 -> 82 | G18: =ROUND(IF($G$4<>"",$G$4,IF($B$4<300,36.5,IF($B$4<1200,40-($B$4*0.009445+0.666667),IF($B$4<2800,40-($B$4*0.009688+0.375),IF($B$4<4000,40-($B$4*0.007084+7.666667),4))))),2) -> 20 | H18: =IF($F18-40<0,"Non utilisable",$F18-G18) -> 62 | I18: =IF($F18-80<0,"Non utilisable",$F18-2*G18) -> 42 | J18: ='Stages - Calc'!H20 -> 126

Sheet Stages - Calc
B3: QF | C3: QF < | D3: 400 | E3: QF compris entre 400 et 1000 | I3: QF = | J3: 1000 | K3: QF compris entre 1000 et 2000 | O3: QF = | P3: 2000 | Q3: QF compris entre 2000 et 4000 | U3: QF = | V3: 4000 | W3: EXT QF<= | X3: 2000 | Y3: EXT QF >= | Z3: 2001
B4: Taux Stages | C4: Taux = | D4: 0.78 | E4: Taux = | F4: 0.0002 | G4: * QF + | H4: 0.7 | I4: Taux = | J4: 0.9 | K4: Taux = | L4: 0.0002 | M4: * QF + | N4: 0.7 | O4: Taux = | P4: 1.1 | Q4: Taux = | R4: 5e-05 | S4: * QF + | T4: 1 | U4: Taux = | V4: 1.2 | W4: Taux = | X4: 1.2 | Y4: Tarif = | Z4: 1.25
B5: Taux Stages Ski/Voile/Canyoning | C5: Taux = | D5: 0.66 | E5: Taux = | F5: 0.0004 | G5: * QF + | H5: 0.5 | I5: Taux = | J5: 0.9 | K5: Taux = | L5: 0.0002 | M5: * QF + | N5: 0.7 | O5: Taux = | P5: 1.1 | Q5: Taux = | R5: 5e-05 | S5: * QF + | T5: 1 | U5: Taux = | V5: 1.2 | W5: Taux = | X5: 1.2 | Y5: Tarif = | Z5: 1.25
G7: Meylan | H7: Ext | I7: Salarié
B8: QF choisi | C8: ='Tarification_STAGES+SEJOURS'!$B$4 -> 0 | F8: Taux pour QF choisi | G8: =IF($C$9>$V$3,$V$4,IF($C$9>$P$3,$R$4*$C$9+$T$4,IF($C$9>$J$3,$L$4*$C$9+$N$4,IF($C$9>$D$3,$F$4*$C$9+$H$4,$D$4)))) -> 0.78 | H8: =IF($C$9>$X$3,$Z$4,$X$4) -> 1.2 | I8: =MIN(G8,1) -> 0.78
B9: QF choisi | C9: ='Tarification_STAGES+SEJOURS'!$B$4 -> 0 | F9: Taux pour QF choisi | G9: =IF($C$9>$V$3,$V$5,IF($C$9>$P$3,$R$5*$C$9+$T$5,IF($C$9>$J$3,$L$5*$C$9+$N$5,IF($C$9>$D$3,$F$5*$C$9+$H$5,$D$5)))) -> 0.66 | H9: =IF($C$9>$X$3,$Z$5,$X$5) -> 1.2 | I9: =MIN(G9,1) -> 0.66
B11: Stages | C11: Coût complet | D11: Tarif de référence | E11: Tarif de référence salarié | F11: Formule 1 ou 2 | G11: Tarif Meyan | H11: Tarif Ext | I11: Tarif Salarié
A12: AUTOMNE 1 | B12: ARTS PLASTIQUES | C12: 90 | D12: 76 | E12: 54 | F12: 1 | G12: =ROUND($D12*IF($F12=1,G$8,G$9),0) -> 59 | H12: =ROUND($D12*IF($F12=1,H$8,H$9),0) -> 91 | I12: =ROUND($E12*IF($F12=1,I$8,I$9),0) -> 42
A13: AUTOMNE 2 | B13: CAPOEIRA | C13: 110 | D13: 93 | E13: 66 | F13: 1 | G13: =ROUND($D13*IF($F13=1,G$8,G$9),0) -> 73 | H13: =ROUND($D13*IF($F13=1,H$8,H$9),0) -> 112 | I13: =ROUND($E13*IF($F13=1,I$8,I$9),0) -> 51
A14: AUTOMNE 3 | B14: ESCALADE | C14: 240 | D14: 202 | E14: 139 | F14: 1 | G14: =ROUND($D14*IF($F14=1,G$8,G$9),0) -> 158 | H14: =ROUND($D14*IF($F14=1,H$8,H$9),0) -> 242 | I14: =ROUND($E14*IF($F14=1,I$8,I$9),0) -> 108
A15: AUTOMNE 4 | B15: HIP-HOP | C15: 122 | D15: 101 | E15: 75 | F15: 1 | G15: =ROUND($D15*IF($F15=1,G$8,G$9),0) -> 79 | H15: =ROUND($D15*IF($F15=1,H$8,H$9),0) -> 121 | I15: =ROUND($E15*IF($F15=1,I$8,I$9),0) -> 59
A16: AUTOMNE 5 | B16: MULTI-ACTIVITÉS | C16: 231 | D16: 181 | E16: 100 | F16: 1 | G16: =ROUND($D16*IF($F16=1,G$8,G$9),0) -> 141 | H16: =ROUND($D16*IF($F16=1,H$8,H$9),0) -> 217 | I16: =ROUND($E16*IF($F16=1,I$8,I$9),0) -> 78
A17: AUTOMNE 6 | B17: PONEY | C17: 174 | D17: 147 | E17: 102 | F17: 1 | G17: =ROUND($D17*IF($F17=1,G$8,G$9),0) -> 115 | H17: =ROUND($D17*IF($F17=1,H$8,H$9),0) -> 176 | I17: =ROUND($E17*IF($F17=1,I$8,I$9),0) -> 80
A18: AUTOMNE 7 | B18: SCIENCE ET MALICE | C18: 85 | D18: 73 | E18: 52 | F18: 1 | G18: =ROUND($D18*IF($F18=1,G$8,G$9),0) -> 57 | H18: =ROUND($D18*IF($F18=1,H$8,H$9),0) -> 88 | I18: =ROUND($E18*IF($F18=1,I$8,I$9),0) -> 41
A19: AUTOMNE 8 | B19: STÉNOPÉ | C19: 146 | D19: 129 | E19: 102 | F19: 1 | G19: =ROUND($D19*IF($F19=1,G$8,G$9),0) -> 101 | H19: =ROUND($D19*IF($F19=1,H$8,H$9),0) -> 155 | I19: =ROUND($E19*IF($F19=1,I$8,I$9),0) -> 80
A20: AUTOMNE 9 | B20: TIR A L'ARC | C20: 121 | D20: 105 | E20: 75 | F20: 1 | G20: =ROUND($D20*IF($F20=1,G$8,G$9),0) -> 82 | H20: =ROUND($D20*IF($F20=1,H$8,H$9),0) -> 126 | I20: =ROUND($E20*IF($F20=1,I$8,I$9),0) -> 59
A21: NOEL 1 | G21: =ROUND($D21*IF($F21=1,G$8,G$9),0) -> 0 | H21: =ROUND($D21*IF($F21=1,H$8,H$9),0) -> 0 | I21: =ROUND($E21*IF($F21=1,I$8,I$9),0) -> 0
A22: NOEL 2 | G22: =ROUND($D22*IF($F22=1,G$8,G$9),0) -> 0 | H22: =ROUND($D22*IF($F22=1,H$8,H$9),0) -> 0 | I22: =ROUND($E22*IF($F22=1,I$8,I$9),0) -> 0
A23: NOEL 3 | G23: =ROUND($D23*IF($F23=1,G$8,G$9),0) -> 0 | H23: =ROUND($D23*IF($F23=1,H$8,H$9),0) -> 0 | I23: =ROUND($E23*IF($F23=1,I$8,I$9),0) -> 0
A24: HIVER 1 | G24: =ROUND($D24*IF($F24=1,G$8,G$9),0) -> 0 | H24: =ROUND($D24*IF($F24=1,H$8,H$9),0) -> 0 | I24: =ROUND($E24*IF($F24=1,I$8,I$9),0) -> 0
A25: HIVER 2 | G25: =ROUND($D25*IF($F25=1,G$8,G$9),0) -> 0 | H25: =ROUND($D25*IF($F25=1,H$8,H$9),0) -> 0 | I25: =ROUND($E25*IF($F25=1,I$8,I$9),0) -> 0
A26: HIVER 3 | G26: =ROUND($D26*IF($F26=1,G$8,G$9),0) -> 0 | H26: =ROUND($D26*IF($F26=1,H$8,H$9),0) -> 0 | I26: =ROUND($E26*IF($F26=1,I$8,I$9),0) -> 0
A27: HIVER 4 | G27: =ROUND($D27*IF($F27=1,G$8,G$9),0) -> 0 | H27: =ROUND($D27*IF($F27=1,H$8,H$9),0) -> 0 | I27: =ROUND($E27*IF($F27=1,I$8,I$9),0) -> 0
A28: HIVER 5 | G28: =ROUND($D28*IF($F28=1,G$8,G$9),0) -> 0 | H28: =ROUND($D28*IF($F28=1,H$8,H$9),0) -> 0 | I28: =ROUND($E28*IF($F28=1,I$8,I$9),0) -> 0
A29: HIVER 6 | G29: =ROUND($D29*IF($F29=1,G$8,G$9),0) -> 0 | H29: =ROUND($D29*IF($F29=1,H$8,H$9),0) -> 0 | I29: =ROUND($E29*IF($F29=1,I$8,I$9),0) -> 0
A30: HIVER 7 | G30: =ROUND($D30*IF($F30=1,G$8,G$9),0) -> 0 | H30: =ROUND($D30*IF($F30=1,H$8,H$9),0) -> 0 | I30: =ROUND($E30*IF($F30=1,I$8,I$9),0) -> 0
A31: HIVER 8 | G31: =ROUND($D31*IF($F31=1,G$8,G$9),0) -> 0 | H31: =ROUND($D31*IF($F31=1,H$8,H$9),0) -> 0 | I31: =ROUND($E31*IF($F31=1,I$8,I$9),0) -> 0
A32: PRINTEMPS 1 | G32: =ROUND($D32*IF($F32=1,G$8,G$9),0) -> 0 | H32: =ROUND($D32*IF($F32=1,H$8,H$9),0) -> 0 | I32: =ROUND($E32*IF($F32=1,I$8,I$9),0) -> 0
... A54: ETE 14 | G54: =ROUND($D54*IF($F54=1,G$8,G$9),0) -> 0 | H54: =ROUND($D54*IF($F54=1,H$8,H$9),0) -> 0 | I54: =ROUND($E54*IF($F54=1,I$8,I$9),0) -> 0
