Workbook

Sheet Tarification_ALSH 
B3: Tarifs pour QF = | F3: Montant pass loisirs indiqué par la mairie de Meylan =
B4: 400 | C4: * hors valorisation locaux et fluides par la mairie | F4: 14.5
B6: Pour les Meylanais, le tarif est dépendant du QF exact pour un QF entre 100 et 4000. Pensez à vous inscrire à l'espace famille de la mairie de Meylan, afin de pouvoir profiter de pass loisirs. Ce pass est utilisable pour 1 journée ou 2 demi-journées de centre de loisirs. Pour les extérieurs, 2 tarifs différents selon le QF <=2000 ou >=2001
B7: Tarifs de l'ALSH selon QF (Quotient familial) | C7: Cout complet (*) | D7: Tarif de référence | E7: Tarif MEYLANAIS | F7: Calcul montant pass loirirs * noté à titre indicatif | G7: Tarif MEYLANAIS, pass déduit | H7: Tarif EXTERIEUR
B8: Repas | C8: ='ALSH - Calculs'!C12 -> 4.85 | D8: ='ALSH - Calculs'!D12 -> 3.3 | E8: ='ALSH - Calculs'!F12 -> 2.2 | F8: 0 | G8: =E8 -> 2.2 | H8: ='ALSH - Calculs'!G12 -> 4.3
B9: MERCREDI
B10: Journée | C10: ='ALSH - Calculs'!C14 -> 55.88 | D10: ='ALSH - Calculs'!D14 -> 32.5 | E10: ='ALSH - Calculs'!F14 -> 21.2 | F10: =ROUND(IF($F$4<>"",$F$4,IF($B$4<300,14.5,IF($B$4<1200,16-($B$4*0.003667+0.4),IF($B$4<2800,16-($B$4*0.003875+0.15),IF($B$4<4000,16-($B$4*0.002917+2.833334),1.5))))),2) -> 14.5 | G10: =E10-F10 -> 6.7 | H10: ='ALSH - Calculs'!G14 -> 42
B11: Demi-journée sans repas | C11: ='ALSH - Calculs'!C17 -> 27.0459 | D11: ='ALSH - Calculs'!D17 -> 15.5 | E11: ='ALSH - Calculs'!F17 -> 10.1 | F11: =0.5*ROUND(IF($F$4<>"",$F$4,IF($B$4<300,14.5,IF($B$4<1200,16-($B$4*0.003667+0.4),IF($B$4<2800,16-($B$4*0.003875+0.15),IF($B$4<4000,16-($B$4*0.002917+2.833334),1.5))))),2) -> 7.25 | G11: =E11-F11 -> 2.85 | H11: ='ALSH - Calculs'!G17 -> 20
B12: Demi-journée avec repas | C12: ='ALSH - Calculs'!C16 -> 31.8959 | D12: ='ALSH - Calculs'!D16 -> 18.8 | E12: ='ALSH - Calculs'!F16 -> 12.3 | F12: =0.5*ROUND(IF($F$4<>"",$F$4,IF($B$4<300,14.5,IF($B$4<1200,16-($B$4*0.003667+0.4),IF($B$4<2800,16-($B$4*0.003875+0.15),IF($B$4<4000,16-($B$4*0.002917+2.833334),1.5))))),2) -> 7.25 | G12: =E12-F12 -> 5.05 | H12: ='ALSH - Calculs'!G16 -> 24.3
B13: VACANCES - Tarif à la journée
B14: Journée "forfait semaine" | C14: ='ALSH - Calculs'!C19 -> 55.88 | D14: ='ALSH - Calculs'!D19 -> 32.5 | E14: ='ALSH - Calculs'!F19 -> 21.2 | F14: =ROUND(IF($F$4<>"",$F$4,IF($B$4<300,14.5,IF($B$4<1200,16-($B$4*0.003667+0.4),IF($B$4<2800,16-($B$4*0.003875+0.15),IF($B$4<4000,16-($B$4*0.002917+2.833334),1.5))))),2) -> 14.5 | G14: =E14-F14 -> 6.7 | H14: ='ALSH - Calculs'!G19 -> 42
B15: Journée "forfait semaine sans mercredi" | C15: ='ALSH - Calculs'!C21 -> 55.88 | D15: ='ALSH - Calculs'!D21 -> 33.15 | E15: ='ALSH - Calculs'!F21 -> 21.6 | F15: =ROUND(IF($F$4<>"",$F$4,IF($B$4<300,14.5,IF($B$4<1200,16-($B$4*0.003667+0.4),IF($B$4<2800,16-($B$4*0.003875+0.15),IF($B$4<4000,16-($B$4*0.002917+2.833334),1.5))))),2) -> 14.5 | G15: =E15-F15 -> 7.1 | H15: ='ALSH - Calculs'!G21 -> 42.8
B16: Journée "à la carte" | C16: ='ALSH - Calculs'!C23 -> 55.88 | D16: ='ALSH - Calculs'!D23 -> 34.125 | E16: ='ALSH - Calculs'!F23 -> 22.2 | F16: =ROUND(IF($F$4<>"",$F$4,IF($B$4<300,14.5,IF($B$4<1200,16-($B$4*0.003667+0.4),IF($B$4<2800,16-($B$4*0.003875+0.15),IF($B$4<4000,16-($B$4*0.002917+2.833334),1.5))))),2) -> 14.5 | G16: =E16-F16 -> 7.7 | H16: ='ALSH - Calculs'!G23 -> 44.1
B17: VACANCES - Tarif à la semaine
B18: Forfait 5 jours | C18: =C14*5 -> 279.4 | D18: =D14*5 -> 162.5 | E18: =E14*5 -> 106 | F18: =5*ROUND(IF($F$4<>"",$F$4,IF($B$4<300,14.5,IF($B$4<1200,16-($B$4*0.003667+0.4),IF($B$4<2800,16-($B$4*0.003875+0.15),IF($B$4<4000,16-($B$4*0.002917+2.833334),1.5))))),2) -> 72.5 | G18: =E18-F18 -> 33.5 | H18: =H14*5 -> 210
B19: Forfait 4 jours sans mercredi | C19: =C15*4 -> 223.52 | D19: =D15*4 -> 132.6 | E19: =E15*4 -> 86.4 | F19: =4*ROUND(IF($F$4<>"",$F$4,IF($B$4<300,14.5,IF($B$4<1200,16-($B$4*0.003667+0.4),IF($B$4<2800,16-($B$4*0.003875+0.15),IF($B$4<4000,16-($B$4*0.002917+2.833334),1.5))))),2) -> 58 | G19: =E19-F19 -> 28.4 | H19: =H15*4 -> 171.2

Sheet ALSH - Calculs
C3: QF < | D3: 100 | E3: QF compris entre | F3: 100 | G3: et | H3: 1000 | I3: QF = | J3: 1000 | K3: QF compris entre | L3: 1000 | M3: et | N3: 2000 | O3: QF = | P3: 2000 | Q3: QF compris entre | R3: 2000 | S3: et | T3: 4000 | U3: QF = | V3: 4000 | W3: EXT QF<= | X3: 2000 | Y3: EXT QF >= | Z3: 2001
B4: Taux ALSH | C4: Taux = | D4: 0.5469 | E4: Taux = | F4: 0.000349 | G4: * QF + | H4: 0.512 | I4: Taux = | J4: 0.861 | K4: Taux = | L4: 0.000332 | M4: * QF + | N4: 0.529 | O4: Taux = | P4: 1.193 | Q4: Taux = | R4: 4.9e-05 | S4: * QF + | T4: 1.095 | U4: Taux = | V4: 1.291 | W4: Taux = | X4: 1.291 | Y4: Tarif = | Z4: 1.448
B5: Taux ALSH clampé à partir de 2000 | C5: Taux = | D5: 0.5469 | E5: Taux = | F5: 0.000349 | G5: * QF + | H5: 0.512 | I5: Taux = | J5: 0.861 | K5: Taux = | L5: 0.000332 | M5: * QF + | N5: 0.529 | O5: Taux = | P5: 1.193 | Q5: Taux = | R5: 0 | S5: * QF + | T5: 1.193 | U5: Taux = | V5: 1.193 | W5: Taux = | X5: 1.291 | Y5: Tarif = | Z5: 1.448
F7: Meylan | G7: Ext
B8: QF choisi | C8: ='Tarification_ALSH '!B4 -> 400 | E8: Taux pour QF choisi | F8: =IF($C$8>$V$3,$V$4,IF($C$8>$P$3,$R$4*$C$8+$T$4,IF($C$8>$J$3,$L$4*$C$8+$N$4,IF($C$8>$D$3,$F$4*$C$8+$H$4,$D$4)))) -> 0.6516 | G8: =IF($C$8>$X$3,$Z$4,$X$4) -> 1.291
E9: Taux pour QF choisi | F9: =IF($C$8>$V$3,$V$5,IF($C$8>$P$3,$R$5*$C$8+$T$5,IF($C$8>$J$3,$L$5*$C$8+$N$5,IF($C$8>$D$3,$F$4*$C$8+$H$5,$D$5)))) -> 0.6516 | G9: =IF($C$8>$X$3,$Z$5,$X$5) -> 1.291
B11: ALSH | C11: Cout complet | D11: Tarif de référence | E11: Tarif de référence salarié | F11: Tarif Meyan | G11: Tarif Ext
B12: Repas | C12: 4.85 | D12: 3.3 | E12: 3.3 | F12: =ROUND($D12*F$8,1) -> 2.2 | G12: =ROUND($D12*G$8,1) -> 4.3
B13: MERCREDI
B14: Journée avec repas (MRA) | C14: 55.88 | D14: 32.5 | E14: 28.6 | F14: =ROUND($D14*F$8,1) -> 21.2 | G14: =ROUND($D14*G$8,1) -> 42
B15: Journée SANS repas (MA) | C15: =C14-C12 -> 51.03 | D15: 29.2 | E15: 25.3 | F15: =ROUND($D15*F$8,1) -> 19 | G15: =ROUND($D15*G$8,1) -> 37.7
B16: Demi-journée avec repas (MR ou RA) | C16: =C17+C12 -> 31.8959 | D16: 18.8 | E16: 16.7 | F16: =ROUND($D16*F$8,1) -> 12.3 | G16: =ROUND($D16*G$8,1) -> 24.3
B17: Demi-journée SANS repas (M ou A) | C17: =C15*53% -> 27.0459 | D17: 15.5 | E17: 13.4 | F17: =ROUND($D17*F$8,1) -> 10.1 | G17: =ROUND($D17*G$8,1) -> 20
B18: VACANCES
B19: Journée "5 jours" avec repas (MRA) | C19: =C14 -> 55.88 | D19: =D14 -> 32.5 | E19: =E14 -> 28.6 | F19: =ROUND($D19*F$8,1) -> 21.2 | G19: =ROUND($D19*G$8,1) -> 42
B20: Journée "5 jours" SANS repas (MA) | C20: =C15 -> 51.03 | D20: =D15 -> 29.2 | E20: =E15 -> 25.3 | F20: =ROUND($D20*F$8,1) -> 19 | G20: =ROUND($D20*G$8,1) -> 37.7
B21: Journée "4 jours" avec repas (MRA) + 2% | C21: =C19 -> 55.88 | D21: =D19*1.02 -> 33.15 | E21: =E19*1.02 -> 29.172 | F21: =ROUND($D21*F$8,1) -> 21.6 | G21: =ROUND($D21*G$8,1) -> 42.8
B22: Journée "4 jours" SANS repas (MA) + 2% | C22: =C20 -> 51.03 | D22: =D20*1.02 -> 29.784 | E22: =E20*1.02 -> 25.806 | F22: =ROUND($D22*F$8,1) -> 19.4 | G22: =ROUND($D22*G$8,1) -> 38.5
B23: Journée "à la carte" avec repas (MRA) + 5% | C23: =C19 -> 55.88 | D23: =D19*1.05 -> 34.125 | E23: =E19*1.05 -> 30.03 | F23: =ROUND($D23*F$8,1) -> 22.2 | G23: =ROUND($D23*G$8,1) -> 44.1
B24: Journée "à la carte" SANS repas (MA) + 5% | C24: =C20 -> 51.03 | D24: =D20*1.05 -> 30.66 | E24: =E20*1.05 -> 26.565 | F24: =ROUND($D24*F$8,1) -> 20 | G24: =ROUND($D24*G$8,1) -> 39.6
B26: Journée sortie Miripili | F26: =ROUND($D26*F$9,1) -> 0 | G26: =ROUND($D26*G$9,1) -> 0
B27: Journée sortie Miripili SANS repas | F27: =ROUND($D27*F$9,1) -> 0 | G27: =ROUND($D27*G$9,1) -> 0
