BEGIN:VCALENDAR
VERSION:2.0
PRODID:-//Horizons - ECPv4.9.13//NONSGML v1.0//EN
CALSCALE:GREGORIAN
METHOD:PUBLISH
X-WR-CALNAME:Horizons
X-ORIGINAL-URL:https://www.horizons-meylan.com
X-WR-CALDESC:Évènements pour Horizons
BEGIN:VTIMEZONE
TZID:Europe/Paris
BEGIN:DAYLIGHT
TZOFFSETFROM:+0100
TZOFFSETTO:+0200
TZNAME:CEST
DTSTART:20230326T010000
END:DAYLIGHT
BEGIN:STANDARD
TZOFFSETFROM:+0200
TZOFFSETTO:+0100
TZNAME:CET
DTSTART:20231029T010000
END:STANDARD
END:VTIMEZONE
BEGIN:VEVENT
DTSTART;VALUE=DATE:20230916
DTEND;VALUE=DATE:20230917
DTSTAMP:20260421T050745
CREATED:20220608T141024Z
LAST-MODIFIED:20230504T132133Z
UID:19383-1694822400-1694908799@www.horizons-meylan.com
SUMMARY:Sortie familles : ferme équestre à Chichilianne
DESCRIPTION:Pour cette sortie de rentrée nous vous emmenons à la Ferme équestre des 4 Chemins au pied du Mont Aiguille. Nous profiterons du paysage\, du plein air\, de la rencontre et des activités équestres. \nLe matin : balade en poney pour les enfants de 6 à 10 ans\, accompagnés d'un moniteur et de leurs parents. \nL'après-midi : balade à cheval pour les parents et les ados uniquement ! Un moment pour profiter d'une activité nature pour soi\, pendant que les plus jeunes resteront jouer avec l'animatrice. \nA partir de 6 ans\, ouvert à tou·te·s\, débutant·e·s accepté·e·s. \nSur inscription\, tarifs au quotient familial\, de 6 à 38 euros par personne. Départ en mini-bus depuis Horizons\, pique-nique à prévoir. \n
URL:https://www.horizons-meylan.com/evenements/sortie-en-familles-ferme-equestre-a-chichilianne/
LOCATION:Horizons\, 16 rue des ayguinards 38240 meylan
CATEGORIES:Enfants & Famille,Maison des Horizons,Parentalité,Sorties en famille
ATTACH;FMTTYPE=image/jpeg:https://www.horizons-meylan.com/wp-content/uploads/2022/06/Rando-FEdes4Chemins-e1654697628219.jpg
END:VEVENT
END:VCALENDAR